Workbook

Sheet A. SAŽETAK
A1: POLUGODIŠNJI IZVJEŠTAJ O IZVRŠENJU FINANCIJSKOG PLANA SVEUČILIŠTA U ZAGREBU FAKULTETA ORGANIZACIJE I INFORMATIKE ZA RAZDOBLJE OD SIJEČNJA DO LIPNJA 2026. GODINE
A3: I. OPĆI DIO
A5: SAŽETAK RAČUNA PRIHODA I RASHODA I RAČUNA FINANCIRANJA
A7: SAŽETAK RAČUNA PRIHODA I RASHODA
A8: BROJČANA OZNAKA I NAZIV | F8: OSTVARENJE/IZVRŠENJE 1.-06.2025. | G8: IZVORNI PLAN ILI REBALANS 2026.* | H8: TEKUĆI PLAN 2026.* | I8: OSTVARENJE/IZVRŠENJE 1.-06.2026. | J8: INDEKS | K8: INDEKS**
A9: 1 | F9: 2 | G9: 3 | H9: 4 | I9: 5 | J9: 6=5/2*100 | K9: 7=5/3*100
A10: 6 PRIHODI POSLOVANJA | F10: 4654112 | G10: 13278221 | H10: =+'A.1 PRIHODI EK'!E10 -> 0 | I10: 5279094.1 | J10: =+I10/F10*100 -> 113.4286 | K10: =+I10/G10*100 -> 39.757541
A11: 7 PRIHODI OD PRODAJE NEFINANCIJSKE IMOVINE | F11: 701 | G11: 2000 | H11: =+'A.1 PRIHODI EK'!E70 -> 0 | I11: 49 | J11: =+I11/F11*100 -> 6.9900143 | K11: =+I11/G11*100 -> 2.45
A12: PRIHODI UKUPNO | F12: 4654813 | G12: =G10+G11 -> 13280221 | H12: =H10+H11 -> 0 | I12: =I10+I11 -> 5279143.1 | J12: =+I12/F12*100 -> 113.41257 | K12: =+I12/G12*100 -> 39.751922
A13: 3 RASHODI POSLOVANJA | F13: 5233740.6 | G13: 10940180 | H13: =+'A.1 RASHODI EK'!E16 -> 0 | I13: 4957021.3 | J13: =+I13/F13*100 -> 94.712781 | K13: =+I13/G13*100 -> 45.310235
A14: 4 RASHODI ZA NABAVU NEFINANCIJSKE IMOVINE | F14: 78755.57 | G14: 3276029 | H14: =+'A.1 RASHODI EK'!E119 -> 0 | I14: 1014819.6 | J14: =+I14/F14*100 -> 1288.5687 | K14: =+I14/G14*100 -> 30.977126
A15: RASHODI UKUPNO | F15: 5312496.2 | G15: =G13+G14 -> 14216209 | H15: =H13+H14 -> 0 | I15: =I13+I14 -> 5971840.9 | J15: =+I15/F15*100 -> 112.4112 | K15: =+I15/G15*100 -> 42.007267
A16: RAZLIKA - VIŠAK / MANJAK | F16: -657683.18 | G16: =G12-G15 -> -935988 | H16: =H12-H15 -> 0 | I16: =I12-I15 -> -692697.76 | J16: =+I16/F16*100 -> 105.32393 | K16: =+I16/G16*100 -> 74.00712
A18: SAŽETAK RAČUNA FINANCIRANJA
A19: BROJČANA OZNAKA I NAZIV | F19: OSTVARENJE/IZVRŠENJE 1.-06.2025. | G19: IZVORNI PLAN ILI REBALANS 2026.* | H19: TEKUĆI PLAN 2026.* | I19: OSTVARENJE/IZVRŠENJE 1.-06.2026. | J19: INDEKS | K19: INDEKS**
A20: 1 | F20: 2 | G20: 3 | H20: 4 | I20: 5 | J20: 6=5/2*100 | K20: 7=5/3*100
A21: 8 PRIMICI OD FINANCIJSKE IMOVINE I ZADUŽIVANJA | F21: 0 | G21: =+'B.1 RAČUN FINANC EK'!D10 -> 0 | H21: =+'B.1 RAČUN FINANC EK'!E10 -> 0 | I21: =+'B.1 RAČUN FINANC EK'!F10 -> 0 | J21: - | K21: -
A22: 5 IZDACI ZA FINANCIJSKU IMOVINU I OTPLATE ZAJMOVA | F22: 0 | G22: =+'B.1 RAČUN FINANC EK'!D17 -> 0 | H22: =+'B.1 RAČUN FINANC EK'!E17 -> 0 | I22: =+'B.1 RAČUN FINANC EK'!F17 -> 0 | J22: - | K22: -
A23: RAZLIKA PRIMITAKA I IZDATAKA | F23: 0 | G23: =G21-G22 -> 0 | H23: =H21-H22 -> 0 | I23: =I21-I22 -> 0 | J23: - | K23: -
A24: PRIJENOS SREDSTAVA IZ PRETHODNE GODINE | F24: 773096 | G24: 1185989 | H24: 0 | I24: 1384602 | J24: =+I24/F24*100 -> 179.09833 | K24: =+I24/G24*100 -> 116.74661
A25: PRIJENOS SREDSTAVA U SLJEDEĆE RAZDOBLJE | F25: 26165 | G25: -250001 | H25: 0 | I25: -691904.24 | J25: =+I25/F25*100 -> -2644.3885 | K25: =+I25/G25*100 -> 276.76059
A26: NETO FINANCIRANJE | F26: 799261.25 | G26: =+G23+G24+G25 -> 935988 | H26: =+H23+H24+H25 -> 0 | I26: =+I23+I24+I25 -> 692697.76 | J26: =+I26/F26*100 -> 86.667252 | K26: =+I26/G26*100 -> 74.00712
A27: VIŠAK/MANJAK + NETO FINANCIRANJE | F27: 141578.07 | G27: =+G16+G26 -> 0 | H27: =+H16+H26 -> 0 | I27: =+I16+I26 -> 0 | J27: =+I27/F27*100 -> 0 | K27: -
A29: Napomena : Iznosi u stupcima "OSTVARENJE/IZVRŠENJE 1.-06.2025." i "OSTVARENJE/IZVRŠENJE 1.-06. 2026." iskazuju se na dvije decimale.
A30: * Opći i posebni dio godišnjeg izvještaja o izvršenju proračuna sadrži samo izvorni plan ako od donošenja proračuna nije bilo izmjena i dopuna niti izvršenih preraspodjela odnosno izvorni plan i tekući plan ako je od donošenja proračuna bilo naknadno izvršenih preraspodjela. Opći i posebni dio godišnjeg izvještaja o izvršenju proračuna sadrži rebalans ako je od donošenja proračuna bilo izmjena i dopuna, odnosno rebalans i tekući plan ako je od izmjena i dopuna proračuna bilo naknadno izvršenih preraspodjela.
A32: ** Ako Opći i Posebni dio godišnjeg izvještaja ne sadrži "TEKUĆI PLAN 2026.", "INDEKS"("OSTVARENJE/IZVRŠENJE 1.-06.2026."/"TEKUĆI PLAN 2026.") iskazuje se kao "OSTVARENJE/IZVRŠENJE 1.-06.2026."/"IZVORNI PLAN 2026." ODNOSNO "REBALANS 2026."
H34: DEKANICA:
H36: prof.dr.sc. MARINA KLAČMER ČALOPA

Sheet A.1 PRIHODI EK
A1: I. OPĆI DIO
A3: RAČUN PRIHODA I RASHODA
A5: IZVJEŠTAJ O PRIHODIMA I RASHODIMA PREMA EKONOMSKOJ KLASIFIKACIJI
A7: BROJČANA OZNAKA I NAZIV | C7: OSTVARENJE/ IZVRŠENJE 01.2025. - 06.2025. | D7: IZVORNI PLAN ILI REBALANS 2026. | E7: TEKUĆI PLAN 2026. | F7: OSTVARENJE/ IZVRŠENJE 01.2026. - 06.2026. | G7: INDEKS (5)/(2) | H7: INDEKS (5)/(3)
A8: 1 | C8: 2 | D8: 3 | E8: 4 | F8: 5 | G8: 6 | H8: 7
A9: Prihodi i rashodi | C9: EUR | D9: EUR | E9: EUR | F9: EUR
B10: UKUPNI PRIHODI | C10: =+C11+C70 -> 4654813 | D10: =+D11+D70 -> 13280221 | E10: =+E11+E70 -> 0 | F10: =+F11+F70 -> 5279143.1 | G10: =+F10/C10*100 -> 113.41257 | H10: =+F10/D10*100 -> 39.751922
A11: 6 | B11: Prihodi poslovanja | C11: =+C12+C34+C45+C51+C58+C65 -> 4654112 | D11: =+D12+D34+D45+D51+D58+D65 -> 13278221 | E11: =+E12+E34+E45+E51+E58+E65 -> 0 | F11: =+F12+F34+F45+F51+F58+F65 -> 5279094.1 | G11: =+F11/C11*100 -> 113.4286 | H11: =+F11/D11*100 -> 39.757541
A12: 63 | B12: Pomoći iz inozemstva (darovnice) i od subjekata unutar općeg proračuna | C12: =+C13+C15+C20+C23+C26+C29 -> 835574.55 | D12: 3717378 | E12: 0 | F12: =+F13+F15+F20+F23+F26+F29 -> 705990.95 | G12: =+F12/C12*100 -> 84.491677 | H12: =+F12/D12*100 -> 18.991637
A13: 631 | B13: Pomoći od inozemnih vlada | C13: =+C14 -> 0 | F13: =+F14 -> 41866.65 | G13: -
A14: 6311 | B14: Tekuće pomoći od inozemnih vlada | C14: 0 | F14: 41866.65 | G14: -
A15: 632 | B15: Pomoći od međunarodnih organizacija te institucija i tijela EU | C15: =SUM(C16:C19) -> 478324.79 | F15: =SUM(F16:F19) -> 0 | G15: =+F15/C15*100 -> 0
A16: 6321 | B16: Tekuće pomoći od međunarodnih organizacija | C16: 5000 | F16: 0 | G16: =+F16/C16*100 -> 0
A17: 6322 | B17: Kapitalne pomoći od međunarodnih organizacija | C17: 0 | F17: 0 | G17: -
A18: 6323 | B18: Tekuće pomoći od institucija i tijela EU | C18: 473324.79 | F18: 0 | G18: =+F18/C18*100 -> 0
A19: 6324 | B19: Kapitalne pomoći od institucija i tijela EU | C19: 0 | F19: 0 | G19: -
A20: 634 | B20: Pomoći od ostalih subjekata unutar općeg proračuna | C20: =+C21+C22 -> 0 | F20: =+F21+F22 -> 0 | G20: -
A21: 6341 | B21: Tekuće pomoći od ostalih subjekata unutar općeg proračuna | C21: 0 | F21: 0 | G21: -
A22: 6342 | B22: Kapitalne pomoći od ostalih subjekata unutar općeg proračuna | C22: 0 | F22: 0 | G22: -
A23: 636 | B23: Pomoći proračunskim korisnicima iz proračuna koji im nije nadležan | C23: =+C24+C25 -> 31260 | F23: =+F24+F25 -> 18600 | G23: =+F23/C23*100 -> 59.50096
A24: 6361 | B24: Tekuće pomoći proračunskim korisnicima iz proračuna koji im nije nadležan | C24: 31260 | F24: 18600 | G24: =+F24/C24*100 -> 59.50096
A25: 6362 | B25: Kapitalne pomoći proračunskim korisnicima iz proračuna koji im nije nadležan | C25: 0 | F25: 0 | G25: -
A26: 638 | B26: Pomoći iz državnog proračuna temeljem prijenosa EU sredstava | C26: =+C27+C28 -> 49856 | F26: =+F27+F28 -> 118150.36 | G26: =+F26/C26*100 -> 236.98323
A27: 6381 | B27: Tekuće pomoći iz državnog proračuna temeljem prijenosa EU sredstava | C27: 49856 | F27: 118150.36 | G27: =+F27/C27*100 -> 236.98323
A28: 6382 | B28: Kapitalne pomoći iz državnog proračuna temeljem prijenosa EU sredstava | C28: 0 | F28: 0 | G28: -
A29: 639 | B29: Prijenosi između proračunskih korisnika istog proračuna | C29: =SUM(C30:C33) -> 276133.76 | F29: =SUM(F30:F33) -> 527373.94 | G29: =+F29/C29*100 -> 190.98496
A30: 6391 | B30: Tekući prijenosi između proračunskih korisnika istog proračuna | C30: 71200.67 | F30: 191853.4 | G30: =+F30/C30*100 -> 269.45449
A31: 6392 | B31: Kapitalni prijenosi između proračunskih korisnika istog proračuna | C31: 0 | F31: 0 | G31: -
A32: 6393 | B32: Tekući prijenosi između proračunskih korisnika istog proračuna temeljem prijenosa EU sredstava | C32: 204933.09 | F32: 335520.54 | G32: =+F32/C32*100 -> 163.72199
A33: 6394 | B33: Kapitalni prijenosi između proračunskih korisnika istog proračuna temeljem prijenosa EU sredstava | C33: 0 | F33: 0 | G33: -
A34: 64 | B34: Prihodi od imovine | C34: =+C35+C42 -> 1.32 | D34: 0 | E34: 0 | F34: =+F35+F42 -> 0.05 | G34: - | H34: -
A35: 641 | B35: Prihodi od financijske imovine | C35: =SUM(C36:C41) -> 1.32 | F35: =SUM(F36:F41) -> 0.05 | G35: -
A36: 6413 | B36: Kamate na oročena sredstva i depozite po viđenju | C36: 1.32 | F36: 0.05 | G36: -
A37: 6414 | B37: Prihodi od zateznih kamata | C37: 0 | F37: 0 | G37: -
A38: 6415 | B38: Prihodi od pozitivnih tečajnih razlika i razlika zbog primjene valutne klauzule | C38: 0 | F38: 0 | G38: -
A39: 6416 | B39: Prihodi od dividendi | C39: 0 | F39: 0 | G39: -
A40: 6417 | B40: Prihodi iz dobiti trgovačkih društava, kreditnih i ostalih financijskih institucija po posebnim propisima | C40: 0 | F40: 0 | G40: -
A41: 6419 | B41: Ostali prihodi od financijske imovine | C41: 0 | F41: 0 | G41: -
A42: 642 | B42: Prihodi od nefinancijske imovine | C42: =+C43+C44 -> 0 | F42: =+F43+F44 -> 0 | G42: -
A43: 6425 | B43: Prihodi od prodaje kratkotrajne nefinancijske imovine | C43: 0 | F43: 0 | G43: -
A44: 6429 | B44: Ostali prihodi od nefinancijske imovine | C44: 0 | F44: 0 | G44: -
A45: 65 | B45: Prihodi od upravnih i administrativnih pristojbi, pristojbi po posebnim propisima i naknada | C45: =+C46+C48 -> 151952.8 | D45: 1009600 | E45: 0 | F45: =+F46+F48 -> 165634.54 | G45: =+F45/C45*100 -> 109.00394 | H45: =+F45/D45*100 -> 16.405957
A46: 651 | B46: Upravne i administrativne pristojbe | C46: =+C47 -> 0 | F46: =+F47 -> 0 | G46: -
A47: 6514 | B47: Ostale pristojbe i naknade | C47: 0 | F47: 0 | G47: -
A48: 652 | B48: Prihodi po posebnim propisima | C48: =+C49+C50 -> 151952.8 | F48: =+F49+F50 -> 165634.54 | G48: =+F48/C48*100 -> 109.00394
A49: 6521 | B49: Prihodi državne uprave | C49: 0 | F49: 0 | G49: -
A50: 6526 | B50: Ostali nespomenuti prihodi | C50: 151952.8 | F50: 165634.54 | G50: =+F50/C50*100 -> 109.00394
A51: 66 | B51: Prihodi od prodaje proizvoda i robe te pruženih usluga i prihodi od donacija | C51: =+C52+C55 -> 325322.13 | D51: 734155 | E51: 0 | F51: =+F52+F55 -> 419514.9 | G51: =+F51/C51*100 -> 128.95369 | H51: =+F51/D51*100 -> 57.142552
A52: 661 | B52: Prihodi od prodaje proizvoda i robe te pruženih usluga | C52: =+C53+C54 -> 262614.11 | F52: =+F53+F54 -> 180048.5 | G52: =+F52/C52*100 -> 68.560101
A53: 6614 | B53: Prihodi od prodaje proizvoda i robe | C53: 1085.59 | F53: 2089.18 | G53: =+F53/C53*100 -> 192.4465
A54: 6615 | B54: Prihodi od pruženih usluga | C54: 261528.52 | F54: 177959.32 | G54: =+F54/C54*100 -> 68.045856
A55: 663 | B55: Donacije od pravnih i fizičkih osoba izvan općeg proračuna | C55: =+C56+C57 -> 62708.02 | F55: =+F56+F57 -> 239466.4 | G55: =+F55/C55*100 -> 381.87524
A56: 6631 | B56: Tekuće donacije | C56: 62708.02 | F56: 239466.4 | G56: =+F56/C56*100 -> 381.87524
A57: 6632 | B57: Kapitalne donacije | C57: 0 | F57: 0 | G57: -
A58: 67 | B58: Prihodi iz proračuna | C58: =+C59+C63 -> 3341261.2 | D58: 7817088 | E58: 0 | F58: =+F59+F63 -> 3987953.7 | G58: =+F58/C58*100 -> 119.35474 | H58: =+F58/D58*100 -> 51.015848
A59: 671 | B59: Prihodi iz proračuna | C59: =+C60+C61+C62 -> 3341261.2 | F59: =+F60+F61+F62 -> 3987953.7 | G59: =+F59/C59*100 -> 119.35474
A60: 6711 | B60: Prihodi iz nadležnog proračuna za financiranje rashoda poslovanja | C60: 3341261.2 | F60: 3987953.7 | G60: =+F60/C60*100 -> 119.35474
A61: 6712 | B61: Prihodi iz nadležnog proračuna za financiranje rashoda za nabavu nefinancijske imovine | C61: 0 | F61: 0 | G61: -
A62: 6714 | B62: Prihodi iz nadležnog proračuna za financiranje izdataka za financijsku imovinu i otplatu zajmova | C62: 0 | F62: 0 | G62: -
A63: 673 | B63: Prihodi od HZZO-a na temelju ugovornih obveza | C63: =+C64 -> 0 | F63: =+F64 -> 0 | G63: -
A64: 6731 | B64: Prihodi od HZZO-a na temelju ugovornih obveza | C64: 0 | F64: 0 | G64: -
A65: 68 | B65: Kazne, upravne mjere i ostali prihodi | C65: =+C66+C68 -> 0 | D65: 0 | E65: 0 | F65: =+F66+F68 -> 0 | G65: - | H65: -
A66: 681 | B66: Kazne i upravne mjere | C66: =+C67 -> 0 | F66: =+F67 -> 0 | G66: -
A67: 6819 | B67: Ostale kazne | C67: 0 | F67: 0 | G67: -
A68: 683 | B68: Ostali prihodi | C68: =+C69 -> 0 | F68: =+F69 -> 0 | G68: -
A69: 6831 | B69: Ostali prihodi | C69: 0 | F69: 0 | G69: -
A70: 7 | B70: Prihodi od prodaje nefinancijske imovine | C70: =+C71+C76 -> 701 | D70: =+D71+D76 -> 2000 | E70: =+E71+E76 -> 0 | F70: =+F71+F76 -> 49 | G70: =+F70/C70*100 -> 6.9900143 | H70: =+F70/D70*100 -> 2.45
A71: 71 | B71: Prihodi od prodaje neproizvedene dugotrajne imovine | C71: =+C72+C74 -> 0 | D71: 0 | F71: =+F72+F74 -> 0 | G71: - | H71: -
A72: 711 | B72: Prihodi od prodaje materijalne imovine - prirodnih bogatstava | C72: =+C73 -> 0 | F72: =+F73 -> 0 | G72: -
A73: 7111 | B73: Zemljište | C73: 0 | F73: 0 | G73: -
A74: 712 | B74: Prihodi od prodaje nematerijalne imovine | C74: =+C75 -> 0 | F74: =+F75 -> 0 | G74: -
A75: 7124 | B75: Ostala prava | C75: 0 | F75: 0 | G75: -
A76: 72 | B76: Prihodi od prodaje proizvedene dugotrajne imovine | C76: =+C77+C80+C84+C87 -> 701 | D76: 2000 | E76: 0 | F76: =+F77+F80+F84+F87 -> 49 | G76: =+F76/C76*100 -> 6.9900143 | H76: =+F76/D76*100 -> 2.45
A77: 721 | B77: Prihodi od prodaje građevinskih objekata | C77: =+C78+C79 -> 0 | F77: =+F78+F79 -> 0 | G77: -
A78: 7211 | B78: Stambeni objekti | C78: 0 | F78: 0 | G78: -
A79: 7212 | B79: Poslovni objekti | C79: 0 | F79: 0 | G79: -
A80: 722 | B80: Prihodi od prodaje postrojenja i opreme | C80: =+C81+C82+C83 -> 701 | F80: =+F81+F82+F83 -> 49 | G80: =+F80/C80*100 -> 6.9900143
A81: 7221 | B81: Uredska oprema i namještaj | C81: 701 | F81: 49 | G81: =+F81/C81*100 -> 6.9900143
A82: 7226 | B82: Sportska i glazbena oprema | C82: 0 | F82: 0 | G82: -
A83: 7227 | B83: Uređaji, strojevi i oprema za ostale namjene | C83: 0 | F83: 0 | G83: -
A84: 723 | B84: Prihodi od prodaje prijevoznih sredstava | C84: =+C85+C86 -> 0 | F84: =+F85+F86 -> 0 | G84: -
A85: 7231 | B85: Prijevozna sredstva u cestovnom prometu | C85: 0 | F85: 0 | G85: -
A86: 7233 | B86: Prijevozna sredstva u pomorskom i riječnom prometu | C86: 0 | F86: 0 | G86: -
A87: 725 | B87: Prihodi od prodaje višegodišnjih nasada i osnovnog stada | C87: =+C88 -> 0 | F87: =+F88 -> 0 | G87: -
A88: 7252 | B88: Osnovno stado | C88: 0 | F88: 0 | G88: -
F91: DEKANICA:
E93: prof.dr.sc. MARINA KLAČMER ČALOPA

Sheet A.1 RASHODI EK
A1: I. OPĆI DIO
A3: RAČUN PRIHODA I RASHODA
A5: IZVJEŠTAJ O PRIHODIMA I RASHODIMA PREMA EKONOMSKOJ KLASIFIKACIJI
A7: I. OPĆI DIO
A9: RAČUN PRIHODA I RASHODA
A11: IZVJEŠTAJ O PRIHODIMA I RASHODIMA PREMA EKONOMSKOJ KLASIFIKACIJI
A13: BROJČANA OZNAKA I NAZIV | C13: OSTVARENJE/ IZVRŠENJE 01.2025. - 06.2025. | D13: IZVORNI PLAN ILI REBALANS 2026. | E13: TEKUĆI PLAN 2026. | F13: OSTVARENJE/ IZVRŠENJE 01.2026. - 06.2026. | G13: INDEKS (5)/(2) | H13: INDEKS (5)/(3)
A14: 1 | C14: 2 | D14: 3 | E14: 4 | F14: 5 | G14: 6 | H14: 7
B15: UKUPNI RASHODI | C15: =+C16+C119 -> 5312496.2 | D15: =+D16+D119 -> 14216209 | E15: =+E16+E119 -> 0 | F15: =+F16+F119 -> 5971840.9 | G15: =+F15/C15*100 -> 112.4112 | H15: =+F15/D15*100 -> 42.007267
A16: 3 | B16: Rashodi poslovanja | C16: =+C17++C29+C62+C71+C79+C96+C104 -> 5233740.6 | D16: =+D17++D29+D62+D71+D79+D96+D104 -> 10940180 | E16: =+E17++E29+E62+E71+E79+E96+E104 -> 0 | F16: =+F17++F29+F62+F71+F79+F96+F104 -> 4957021.3 | G16: =+F16/C16*100 -> 94.712781 | H16: =+F16/D16*100 -> 45.310235
A17: 31 | B17: Rashodi za zaposlene | C17: =+C18+C23+C25 -> 3856627.1 | D17: 8502279 | E17: 0 | F17: =+F18+F23+F25 -> 3758624.5 | G17: =+F17/C17*100 -> 97.458853 | H17: =+F17/D17*100 -> 44.207259
A18: 311 | B18: Plaće (Bruto) | C18: =SUM(C19:C22) -> 3157707 | F18: =SUM(F19:F22) -> 3054595.1 | G18: =+F18/C18*100 -> 96.734594
A19: 3111 | B19: Plaće za redovan rad | C19: 3153453.8 | F19: 3049989.5 | G19: =+F19/C19*100 -> 96.719017
A20: 3112 | B20: Plaće u naravi | C20: 1805.49 | F20: 2594.86 | G20: =+F20/C20*100 -> 143.72054
A21: 3113 | B21: Plaće za prekovremeni rad | C21: 1635.09 | F21: 1283.57 | G21: =+F21/C21*100 -> 78.501489
A22: 3114 | B22: Plaće za posebne uvjete rada | C22: 812.67 | F22: 727.14 | G22: =+F22/C22*100 -> 89.475433
A23: 312 | B23: Ostali rashodi za zaposlene | C23: =+C24 -> 181360.45 | F23: =+F24 -> 188023.74 | G23: =+F23/C23*100 -> 103.67406
A24: 3121 | B24: Ostali rashodi za zaposlene | C24: 181360.45 | F24: 188023.74 | G24: =+F24/C24*100 -> 103.67406
A25: 313 | B25: Doprinosi na plaće | C25: =SUM(C26:C28) -> 517559.61 | F25: =SUM(F26:F28) -> 516005.71 | G25: =+F25/C25*100 -> 99.699764
A26: 3131 | B26: Doprinosi za mirovinsko osiguranje | C26: 0 | F26: 0 | G26: -
A27: 3132 | B27: Doprinosi za obvezno zdravstveno osiguranje | C27: 517559.61 | F27: 516005.71 | G27: =+F27/C27*100 -> 99.699764
A28: 3133 | B28: Doprinosi za obvezno osiguranje u slučaju nezaposlenosti | C28: 0 | F28: 0 | G28: -
A29: 32 | B29: Materijalni rashodi | C29: =+C30+C35+C42+C52+C54 -> 960376.44 | D29: 1863401 | E29: 0 | F29: =+F30+F35+F42+F52+F54 -> 1019032.6 | G29: =+F29/C29*100 -> 106.10762 | H29: =+F29/D29*100 -> 54.686705
A30: 321 | B30: Naknade troškova zaposlenima | C30: =SUM(C31:C34) -> 251657.76 | F30: =SUM(F31:F34) -> 263886.67 | G30: =+F30/C30*100 -> 104.85934
A31: 3211 | B31: Službena putovanja | C31: 125493.75 | F31: 127092.36 | G31: =+F31/C31*100 -> 101.27386
A32: 3212 | B32: Naknade za prijevoz, za rad na terenu i odvojeni život | C32: 78503.98 | F32: 75190.63 | G32: =+F32/C32*100 -> 95.779386
A33: 3213 | B33: Stručno usavršavanje zaposlenika | C33: 47660.03 | F33: 61603.68 | G33: =+F33/C33*100 -> 129.25649
A34: 3214 | B34: Ostale naknade troškova zaposlenima | C34: 0 | F34: 0 | G34: -
A35: 322 | B35: Rashodi za materijal i energiju | C35: =SUM(C36:C41) -> 86601.65 | F35: =SUM(F36:F41) -> 85423.7 | G35: =+F35/C35*100 -> 98.639807
A36: 3221 | B36: Uredski materijal i ostali materijalni rashodi | C36: 13217.6 | F36: 13261.83 | G36: =+F36/C36*100 -> 100.33463
A37: 3222 | B37: Materijal i sirovine | C37: 0 | F37: 0 | G37: -
A38: 3223 | B38: Energija | C38: 58232.48 | F38: 57207.74 | G38: =+F38/C38*100 -> 98.24026
A39: 3224 | B39: Materijal i dijelovi za tekuće i investicijsko održavanje | C39: 14843.78 | F39: 13941.62 | G39: =+F39/C39*100 -> 93.922303
A40: 3225 | B40: Sitni inventar i auto gume | C40: 171.4 | F40: 0 | G40: -
A41: 3227 | B41: Službena, radna i zaštitna odjeća i obuća | C41: 136.39 | F41: 1012.51 | G41: =+F41/C41*100 -> 742.36381
A42: 323 | B42: Rashodi za usluge | C42: =SUM(C43:C51) -> 533444.62 | F42: =SUM(F43:F51) -> 575299.57 | G42: =+F42/C42*100 -> 107.84617
A43: 3231 | B43: Usluge telefona, pošte i prijevoza | C43: 18574.63 | F43: 26096.38 | G43: =+F43/C43*100 -> 140.49475
A44: 3232 | B44: Usluge tekućeg i investicijskog održavanja | C44: 38236.56 | F44: 29599.97 | G44: =+F44/C44*100 -> 77.412743
A45: 3233 | B45: Usluge promidžbe i informiranja | C45: 32206.18 | F45: 45129.47 | G45: =+F45/C45*100 -> 140.12674
A46: 3234 | B46: Komunalne usluge | C46: 8972.39 | F46: 9802.34 | G46: =+F46/C46*100 -> 109.25004
A47: 3235 | B47: Zakupnine i najamnine | C47: 39973.51 | F47: 31990.78 | G47: =+F47/C47*100 -> 80.02995
A48: 3236 | B48: Zdravstvene i veterinarske usluge | C48: 0 | F48: 55.67 | G48: -
A49: 3237 | B49: Intelektualne i osobne usluge | C49: 305480.87 | F49: 364717.65 | G49: =+F49/C49*100 -> 119.39132
A50: 3238 | B50: Računalne usluge | C50: 35.67 | F50: 95.33 | G50: =+F50/C50*100 -> 267.2554
A51: 3239 | B51: Ostale usluge | C51: 89964.81 | F51: 67811.98 | G51: =+F51/C51*100 -> 75.376117
A52: 324 | B52: Naknade troškova osobama izvan radnog odnosa | C52: =+C53 -> 13042.5 | F52: =+F53 -> 5754.14 | G52: =+F52/C52*100 -> 44.118382
A53: 3241 | B53: Naknade troškova osobama izvan radnog odnosa | C53: 13042.5 | F53: 5754.14 | G53: =+F53/C53*100 -> 44.118382
A54: 329 | B54: Ostali nespomenuti rashodi poslovanja | C54: =SUM(C55:C61) -> 75629.91 | F54: =SUM(F55:F61) -> 88668.53 | G54: =+F54/C54*100 -> 117.24003
A55: 3291 | B55: Naknade za rad predstavničkih i izvršnih tijela, povjerenstava i slično | C55: 0 | F55: 0 | G55: -
A56: 3292 | B56: Premije osiguranja | C56: 766.34 | F56: 1032.02 | G56: =+F56/C56*100 -> 134.66868
A57: 3293 | B57: Reprezentacija | C57: 31572 | F57: 41868.86 | G57: =+F57/C57*100 -> 132.6139
A58: 3294 | B58: Članarine i norme | C58: 18176.22 | F58: 11323.63 | G58: =+F58/C58*100 -> 62.299147
A59: 3295 | B59: Pristojbe i naknade | C59: 3109.31 | F59: 2222.67 | G59: =+F59/C59*100 -> 71.484349
A60: 3296 | B60: Troškovi sudskih postupaka | C60: 0 | F60: 0 | G60: -
A61: 3299 | B61: Ostali nespomenuti rashodi poslovanja | C61: 22006.04 | F61: 32221.35 | G61: =+F61/C61*100 -> 146.42048
A62: 34 | B62: Financijski rashodi | C62: =+C63+C66 -> 5933.7 | D62: 16000 | E62: 0 | F62: =+F63+F66 -> 4142.46 | G62: =+F62/C62*100 -> 69.812427 | H62: =+F62/D62*100 -> 25.890375
A63: 342 | B63: Kamate za primljene kredite i zajmove | C63: =+C64+C65 -> 0 | F63: =+F64+F65 -> 0 | G63: -
A64: 3422 | B64: Kamate za primljene kredite i zajmove od kreditnih i ostalih financijskih institucija u javnom sektoru | C64: 0 | F64: 0 | G64: -
A65: 3423 | B65: Kamate za primljene kredite i zajmove od kreditnih i ostalih financijskih institucija izvan javnog sektora | C65: 0 | F65: 0 | G65: -
A66: 343 | B66: Ostali financijski rashodi | C66: =SUM(C67:C70) -> 5933.7 | F66: =SUM(F67:F70) -> 4142.46 | G66: =+F66/C66*100 -> 69.812427
A67: 3431 | B67: Bankarske usluge i usluge platnog prometa | C67: 5859.7 | F67: 4136.43 | G67: =+F67/C67*100 -> 70.591157
A68: 3432 | B68: Negativne tečajne razlike i razlike zbog primjene valutne klauzule | C68: 63.82 | F68: 6.03 | G68: =+F68/C68*100 -> 9.4484488
A69: 3433 | B69: Zatezne kamate | C69: 10.18 | F69: 0 | G69: -
A70: 3434 | B70: Ostali nespomenuti financijski rashodi | C70: 0 | F70: 0 | G70: -
A71: 35 | B71: Subvencije | C71: =+C72+C74+C77 -> 0 | D71: 0 | E71: 0 | F71: =+F72+F74+F77 -> 0 | G71: - | H71: -
A72: 351 | B72: Subvencije trgovačkim društvima u javnom sektoru | C72: =+C73 -> 0 | F72: =+F73 -> 0 | G72: -
A73: 3511 | B73: Subvencije kreditnim i ostalim financijskim institucijama u javnom sektoru | C73: 0 | F73: 0 | G73: -
A74: 352 | B74: Subvencije trgovačkim društvima, poljoprivrednicima i obrtnicima izvan javnog sektora | C74: =+C75+C76 -> 0 | F74: =+F75+F76 -> 0 | G74: -
A75: 3521 | B75: Subvencije kreditnim i ostalim financijskim institucijama izvan javnog sektora | C75: 0 | F75: 0 | G75: -
A76: 3522 | B76: Subvencije trgovačkim društvima izvan javnog sektora | C76: 0 | F76: 0 | G76: -
A77: 353 | B77: Subvencije trgovačkim društvima, zadrugama, poljoprivrednicima i obrtnicima iz EU sredstava | C77: =+C78 -> 0 | F77: =+F78 -> 0 | G77: -
A78: 3531 | B78: Subvencije trgovačkim društvima, zadrugama, poljoprivrednicima i obrtnicima iz EU sredstava | C78: 0 | F78: 0 | G78: -
A79: 36 | B79: Pomoći dane u inozemstvo i unutar općeg proračuna | C79: =+C80+C82+C84+C86+C89+C91 -> 1276.24 | D79: 0 | E79: 0 | F79: =+F80+F82+F84+F86+F89+F91 -> 171204.2 | G79: =+F79/C79*100 -> 13414.734 | H79: -
A80: 361 | B80: Pomoći inozemnim vladama | C80: =+C81 -> 0 | F80: =+F81 -> 164360 | G80: -
A81: 3611 | B81: Tekuće pomoći inozemnim vladama | C81: 0 | F81: 164360 | G81: -
A82: 362 | B82: Pomoći međunarodnim organizacijama te institucijama i tijelima EU | C82: =+C83 -> 0 | F82: =+F83 -> 0 | G82: =+F82/C82*100 -> #DIV/0!
A83: 3621 | B83: Tekuće pomoći međunarodnim organizacijama te institucijama i tijelima EU | C83: 0 | F83: 0 | G83: =+F83/C83*100 -> #DIV/0!
A84: 363 | B84: Pomoći unutar općeg proračuna | C84: =+C85 -> 0 | F84: =+F85 -> 0 | G84: -
A85: 3631 | B85: Tekuće pomoći unutar općeg proračuna | C85: 0 | F85: 0 | G85: -
A86: 366 | B86: Pomoći proračunskim korisnicima drugih proračuna | C86: =+C87+C88 -> 0 | F86: =+F87+F88 -> 0 | G86: -
A87: 3661 | B87: Tekuće pomoći proračunskim korisnicima drugih proračuna | C87: 0 | F87: 0 | G87: -
A88: 3662 | B88: Kapitalne pomoći proračunskim korisnicima drugih proračuna | C88: 0 | F88: 0 | G88: -
A89: 368 | B89: Pomoći temeljem prijenosa EU sredstava | C89: =+C90 -> 0 | F89: =+F90 -> 0 | G89: -
A90: 3681 | B90: Tekuće pomoći temeljem prijenosa EU sredstava | C90: 0 | F90: 0 | G90: -
A91: 369 | B91: Prijenosi između proračunskih korisnika istog proračuna | C91: =SUM(C92:C95) -> 1276.24 | F91: =SUM(F92:F95) -> 6844.2 | G91: =+F91/C91*100 -> 536.27844
A92: 3691 | B92: Tekući prijenosi između proračunskih korisnika istog proračuna | C92: 0 | F92: 0 | G92: -
A93: 3692 | B93: Kapitalni prijenosi između proračunskih korisnika istog proračuna | C93: 0 | F93: 0 | G93: -
A94: 3693 | B94: Tekući prijenosi između proračunskih korisnika istog proračuna temeljem prijenosa EU sredstava | C94: 1276.24 | F94: 6844.2 | G94: =+F94/C94*100 -> 536.27844
A95: 3694 | B95: Kapitalni prijenosi između proračunskih korisnika istog proračuna temeljem prijenosa EU sredstava | C95: 0 | F95: 0 | G95: -
A96: 37 | B96: Naknade građanima i kućanstvima na temelju osiguranja i druge naknade | C96: =+C97+C100 -> 2873.36 | D96: 15000 | E96: 0 | F96: =+F97+F100 -> 1775.5 | G96: =+F96/C96*100 -> 61.79177 | H96: =+F96/D96*100 -> 11.836667
A97: 371 | B97: Naknade građanima i kućanstvima na temelju osiguranja | C97: =+C98+C99 -> 0 | F97: =+F98+F99 -> 0 | G97: -
A98: 3712 | B98: Naknade građanima i kućanstvima u naravi - neposredno ili putem ustanova izvan javnog sektora | C98: 0 | F98: 0 | G98: -
A99: 3714 | B99: Naknade građanima i kućanstvima u naravi - putem ustanova u javnom sektoru | C99: 0 | F99: 0 | G99: -
A100: 372 | B100: Ostale naknade građanima i kućanstvima iz proračuna | C100: =SUM(C101:C103) -> 2873.36 | F100: =SUM(F101:F103) -> 1775.5 | G100: =+F100/C100*100 -> 61.79177
A101: 3721 | B101: Naknade građanima i kućanstvima u novcu | C101: 2873.36 | F101: 1775.5 | G101: =+F101/C101*100 -> 61.79177
A102: 3722 | B102: Naknade građanima i kućanstvima u naravi | C102: 0 | F102: 0 | G102: -
A103: 3723 | B103: Naknade građanima i kućanstvima iz EU sredstava | C103: 0 | F103: 0 | G103: -
A104: 38 | B104: Ostali rashodi | C104: =+C105+C109+C113 -> 406653.78 | D104: 543500 | E104: 0 | F104: =+F105+F109+F113 -> 2242 | G104: - | H104: -
A105: 381 | B105: Tekuće donacije | C105: =SUM(C106:C108) -> 406653.78 | F105: =SUM(F106:F108) -> 2242 | G105: -
A106: 3811 | B106: Tekuće donacije u novcu | C106: 1192 | F106: 2242 | G106: -
...

Sheet A.2 PRIHODI I RASHODI IF
A5: IZVJEŠTAJ O PRIHODIMA I RASHODIMA PREMA IZVORIMA FINANCIRANJA
A7: BROJČANA OZNAKA I NAZIV | C7: OSTVARENJE/ IZVRŠENJE 01.2025. - 06.2025. | D7: IZVORNI PLAN ILI REBALANS 2026. | E7: TEKUĆI PLAN 2026. | F7: OSTVARENJE/ IZVRŠENJE 01.2026. - 06.2026. | G7: INDEKS (5)/(2) | H7: INDEKS (5)/(3)
A8: 1 | C8: 2 | D8: 3 | E8: 4 | F8: 5.0833333 | G8: 6 | H8: 7
A9: Prihodi i rashodi | C9: EUR | D9: EUR | E9: EUR | F9: EUR
A10: PRIHODI | C10: =+C11+C14+C16+C18+C27+C29 -> 4654813 | D10: =+D11+D14+D16+D18+D27+D29 -> 13280221 | F10: =+F11+F14+F16+F18+F27+F29 -> 5279143.1 | G10: =F10/C10*100 -> 113.41257 | H10: =F10/D10*100 -> 39.751922
A11: 1 | B11: Opći prihodi i primici | C11: =+C12+C13 -> 3341695.5 | D11: =+D12+D13 -> 7567656 | F11: =+F12+F13 -> 3868217.3 | G11: =F11/C11*100 -> 115.75613 | H11: =F11/D11*100 -> 51.115132
A12: 11 | B12: Opći prihodi i primici | C12: 3341695.5 | D12: 7567656 | F12: 3868217.3 | G12: =F12/C12*100 -> 115.75613 | H12: =F12/D12*100 -> 51.115132
A13: 12 | B13: Sredstva učešća za pomoći | C13: 0 | D13: 0 | F13: 0 | G13: - | H13: -
A14: 3 | B14: Vlastiti prihodi | C14: =+C15 -> 254742.91 | D14: =+D15 -> 431685 | F14: =+F15 -> 186059.26 | G14: =F14/C14*100 -> 73.038052 | H14: =F14/D14*100 -> 43.100701
A15: 31 | B15: Vlastiti prihodi | C15: 254742.91 | D15: 431685 | F15: 186059.26 | G15: =F15/C15*100 -> 73.038052 | H15: =F15/D15*100 -> 43.100701
A16: 4 | B16: Prihodi za posebne namjene | C16: =+C17 -> 170835.32 | D16: =+D17 -> 1009600 | F16: =+F17 -> 168624.54 | G16: =F16/C16*100 -> 98.7059 | H16: =F16/D16*100 -> 16.702114
A17: 43 | B17: Ostali prihodi za posebne namjene | C17: 170835.32 | D17: 1009600 | F17: 168624.54 | G17: =F17/C17*100 -> 98.7059 | H17: =F17/D17*100 -> 16.702114
A18: 5 | B18: Pomoći | C18: =C19+C20+C21+C22+C23+C24+C25+C26 -> 833985.52 | D18: =D19+D20+D21+D22+D23+D24+D25+D26 -> 4205460 | F18: =F19+F20+F21+F22+F23+F24+F25+F26 -> 1038140.6 | G18: =F18/C18*100 -> 124.47945 | H18: =F18/D18*100 -> 24.685541
A19: 50 | B19: Pomoći iz državnog proračuna | C19: 0 | D19: 129398 | F19: 260147.76 | G19: - | H19: -
A20: 51 | B20: Pomoći EU | C20: 472627.23 | D20: 118099 | F20: 296462.08 | G20: =F20/C20*100 -> 62.726407 | H20: =F20/D20*100 -> 251.02844
A21: 52 | B21: Ostale pomoći | C21: 361358.29 | D21: 37500 | F21: 14700 | G21: =F21/C21*100 -> 4.0679847 | H21: =F21/D21*100 -> 39.2
A22: 53 | B22: Darovnice | C22: 0 | D22: 0 | F22: 0 | G22: - | H22: -
A23: 54 | B23: Europski poljoprivredni jamstveni fond (EAGF) | C23: 0 | D23: 0 | F23: 0 | G23: - | H23: -
A24: 56 | B24: Fondovi EU | C24: 0 | D24: 3635231 | F24: 311473.22 | G24: - | H24: =F24/D24*100 -> 8.5681823
A25: 57 | B25: Ostali programi EU | C25: 0 | D25: 0 | F25: 0 | G25: - | H25: -
A26: 58 | B26: Instrumenti EU nove generacije | C26: 0 | D26: 285232 | F26: 155357.51 | G26: - | H26: =F26/D26*100 -> 54.467069
A27: 6 | B27: Donacije | C27: =+C28 -> 53352.75 | D27: =+D28 -> 63820 | F27: =+F28 -> 18101.45 | G27: =F27/C27*100 -> 33.927867 | H27: =F27/D27*100 -> 28.363287
A28: 61 | B28: Donacije | C28: 53352.75 | D28: 63820 | F28: 18101.45 | G28: =F28/C28*100 -> 33.927867 | H28: =F28/D28*100 -> 28.363287
A29: 7 | B29: Prihodi od nefin. imovine i nadoknade štete s osnova osig. | C29: =+C30 -> 201 | D29: =+D30 -> 2000 | F29: =+F30 -> 0 | G29: - | H29: -
A30: 71 | B30: Prihodi od nefin. imovine i nadoknade štete s osnova osig. | C30: 201 | D30: 2000 | F30: 0 | G30: - | H30: -
A31: RASHODI | C31: =C32+C35+C37+C39+C48+C50 -> 5312496.2 | D31: =D32+D35+D37+D39+D48+D50 -> 14216210 | F31: =F32+F35+F37+F39+F48+F50 -> 5971840.9 | G31: =F31/C31*100 -> 112.4112 | H31: =F31/D31*100 -> 42.007264
A32: 1 | B32: Opći prihodi i primici | C32: =+C33+C34 -> 3677743.7 | D32: =+D33+D34 -> 7567656 | F32: =+F33+F34 -> 3601017.6 | G32: =F32/C32*100 -> 97.913773 | H32: =F32/D32*100 -> 47.58432
A33: 11 | B33: Opći prihodi i primici | C33: 3677743.7 | D33: 7567656 | F33: 3601017.6 | G33: =F33/C33*100 -> 97.913773 | H33: =F33/D33*100 -> 47.58432
A34: 12 | B34: Sredstva učešća za pomoći | C34: 0 | D34: 0 | F34: 0 | G34: - | H34: -
A35: 3 | B35: Vlastiti prihodi | C35: =+C36 -> 400042.76 | D35: =+D36 -> 431685 | F35: =+F36 -> 210940.07 | G35: =F35/C35*100 -> 52.729381 | H35: =F35/D35*100 -> 48.86435
A36: 31 | B36: Vlastiti prihodi | C36: 400042.76 | D36: 431685 | F36: 210940.07 | G36: =F36/C36*100 -> 52.729381 | H36: =F36/D36*100 -> 48.86435
A37: 4 | B37: Prihodi za posebne namjene | C37: =+C38 -> 352249.85 | D37: =+D38 -> 1009600 | F37: =+F38 -> 465334.94 | G37: =F37/C37*100 -> 132.10366 | H37: =F37/D37*100 -> 46.09102
A38: 43 | B38: Ostali prihodi za posebne namjene | C38: 352249.85 | D38: 1009600 | F38: 465334.94 | G38: =F38/C38*100 -> 132.10366 | H38: =F38/D38*100 -> 46.09102
A39: 5 | B39: Pomoći | C39: =SUM(C40:C47) -> 775107.5 | D39: =SUM(D40:D47) -> 5141449 | F39: =F40+F41+F42+F43+F44+F45+F46+F47 -> 1652493.2 | G39: =F39/C39*100 -> 213.19536 | H39: =F39/D39*100 -> 32.140613
A40: 50 | B40: Pomoći iz DP | C40: 0 | D40: 129398 | F40: 154755.28 | G40: - | H40: -
A41: 51 | B41: Programi unije | C41: 439902.04 | D41: 118099 | F41: 346828.97 | G41: =F41/C41*100 -> 78.842319 | H41: -
A42: 52 | B42: Ostale pomoći | C42: 335205.46 | D42: 37500 | F42: 14929.97 | G42: =F42/C42*100 -> 4.4539758 | H42: =F42/D42*100 -> 39.813253
A43: 53 | B43: Ostale darovnice | C43: 0 | D43: 0 | F43: 0 | G43: - | H43: -
A44: 54 | B44: Europski poljoprivredni jamstveni fond (EAGF) | C44: 0 | D44: 0 | F44: 0 | G44: - | H44: -
A45: 56 | B45: Fondovi EU | C45: 0 | D45: 4571220 | F45: 1028797.5 | G45: - | H45: =F45/D45*100 -> 22.505971
A46: 57 | B46: Ostali programi EU | C46: 0 | D46: 0 | F46: 0 | G46: - | H46: -
A47: 58 | B47: Instrumenti EU nove generacije | C47: 0 | D47: 285232 | F47: 107181.56 | G47: - | H47: =F47/D47*100 -> 37.576976
A48: 6 | B48: Donacije | C48: =+C49 -> 107352.36 | D48: =+D49 -> 63820 | F48: =+F49 -> 42055.02 | G48: =F48/C48*100 -> 39.174751 | H48: =F48/D48*100 -> 65.896302
A49: 61 | B49: Donacije | C49: 107352.36 | D49: 63820 | F49: 42055.02 | G49: =F49/C49*100 -> 39.174751 | H49: =F49/D49*100 -> 65.896302
A50: 7 | B50: Prihodi od nefin. imovine i nadoknade štete s osnova osig. | C50: =+C51 -> 0 | D50: =+D51 -> 2000 | F50: =+F51 -> 0 | G50: - | H50: -
A51: 71 | B51: Prihodi od nefin. imovine i nadoknade štete s osnova osig. | C51: 0 | D51: 2000 | F51: 0 | G51: - | H51: -
F53: DEKANICA:
E55: prof.dr.sc. MARINA KLAČMER ČALOPA

Sheet A.3 RASHODI FUNKC
A5: IZVJEŠTAJ O RASHODIMA PREMA FUNKCIJSKOJ KLASIFIKACIJI
A7: BROJČANA OZNAKA I NAZIV | C7: OSTVARENJE/ IZVRŠENJE 01.2025. - 06.2025. | D7: IZVORNI PLAN ILI REBALANS 2026. | E7: TEKUĆI PLAN 2026. | F7: OSTVARENJE/ IZVRŠENJE 01.2026. - 06.2026. | G7: INDEKS (5)/(2) | H7: INDEKS (5)/(3)
A8: 1 | C8: 2 | D8: 3 | E8: 4.3333333 | F8: 5.0833333 | G8: 6 | H8: 7
A9: Rashodi | C9: EUR | D9: EUR | E9: EUR | F9: EUR
B10: UKUPNO RASHODI | C10: =+C11+C13 -> 5312496.2 | D10: =+D11+D13 -> 14216209 | E10: =+E11+E13 -> 0 | F10: =+F11+F13 -> 5971840.9 | G10: =+F10/C10*100 -> 112.4112 | H10: =+F10/D10*100 -> 42.007267
A11: 01 | B11: Opće javne usluge | C11: =+C12 -> 0 | D11: =+D12 -> 0 | E11: =+E12 -> 0 | F11: =+F12 -> 0 | G11: - | H11: -
A12: 015 | B12: Istraživanje i razvoj: Opće javne usluge | C12: 0 | D12: 0 | E12: 0 | F12: 0 | G12: - | H12: -
A13: 09 | B13: Obrazovanje | C13: =+C14 -> 5312496.2 | D13: =+D14 -> 14216209 | E13: =+E14 -> 0 | F13: =+F14 -> 5971840.9 | G13: =+F13/C13*100 -> 112.4112 | H13: =+F13/D13*100 -> 42.007267
A14: 094 | B14: Visoka naobrazba | C14: 5312496.2 | D14: 14216209 | E14: 0 | F14: 5971840.9 | G14: =+F14/C14*100 -> 112.4112 | H14: =+F14/D14*100 -> 42.007267
F17: DEKANICA:
E19: prof.dr.sc. MARINA KLAČMER ČALOPA

Sheet B.1 RAČUN FINANC EK
A5: IZVJEŠTAJ RAČUNA FINANCIRANJA PREMA EKONOMSKOJ KLASIFIKACIJI
A7: BROJČANA OZNAKA I NAZIV | C7: OSTVARENJE/IZVRŠENJE 01.2025. - 06.2025. | D7: IZVORNI PLAN ILI REBALANS 2026. | E7: TEKUĆI PLAN 2026. | F7: OSTVARENJE/IZVRŠENJE 01.2026. - 06.2026. | G7: INDEKS (5)/(2) | H7: INDEKS (5)/(3)
A8: 1 | C8: 2 | D8: 3 | E8: 4.3333333 | F8: 5.0833333 | G8: 6 | H8: 7
A9: Primici i izdaci | C9: EUR | D9: EUR | E9: EUR | F9: EUR
A10: 8 | B10: Primici od financijske imovine i zaduživanja | C10: =+C11+C14 -> 0 | D10: =+D11+D14 -> 0 | E10: =+E11+E14 -> 0 | F10: =+F11+F14 -> 0 | G10: =+F10/C10*100 -> #DIV/0! | H10: =+F10/E10*100 -> #DIV/0!
A11: 81 | B11: Primljeni povrati glavnica danih zajmova i depozita | C11: =+C12 -> 0 | D11: 0 | E11: 0 | F11: =+F12 -> 0 | G11: =+F11/C11*100 -> #DIV/0! | H11: =+F11/E11*100 -> #DIV/0!
A12: 818 | B12: Primici od povrata depozita i jamčevnih pologa | C12: =+C13 -> 0 | F12: =+F13 -> 0 | G12: =+F12/C12*100 -> #DIV/0! | H12: =+F12/E12*100 -> #DIV/0!
A13: 8181 | B13: Primici od povrata depozita od kreditnih i ostalih financijskih institucija - tuzemni | C13: 0 | F13: 0 | G13: =+F13/C13*100 -> #DIV/0! | H13: =+F13/E13*100 -> #DIV/0!
A14: 83 | B14: Primici od prodaje dionica i udjela u glavnici | C14: =+C15 -> 0 | D14: 0 | E14: 0 | F14: =+F15 -> 0 | G14: =+F14/C14*100 -> #DIV/0! | H14: =+F14/E14*100 -> #DIV/0!
A15: 833 | B15: Primici od prodaje dionica i udjela u glavnici kreditnih i ostalih financijskih institucija izvan javnog sektora | C15: =+C16 -> 0 | F15: =+F16 -> 0 | G15: =+F15/C15*100 -> #DIV/0! | H15: =+F15/E15*100 -> #DIV/0!
A16: 8331 | B16: Dionice i udjeli u glavnici tuzemnih kreditnih i ostalih financijskih institucija izvan javnog sektora | C16: 0 | F16: 0 | G16: =+F16/C16*100 -> #DIV/0! | H16: =+F16/E16*100 -> #DIV/0!
A17: 5 | B17: Izdaci za financijsku imovinu i otplate zajmova | C17: =+C18+C27+C32 -> 0 | D17: =+D18+D27+D32 -> 0 | E17: =+E18+E27+E32 -> 0 | F17: =+F18+F27+F32 -> 0 | G17: =+F17/C17*100 -> #DIV/0! | H17: =+F17/E17*100 -> #DIV/0!
A18: 51 | B18: Izdaci za dane zajmove i depozite | C18: =+C19+C22+C24 -> 0 | D18: 0 | E18: 0 | F18: =+F19+F22+F24 -> 0 | G18: =+F18/C18*100 -> #DIV/0! | H18: =+F18/E18*100 -> #DIV/0!
A19: 512 | B19: Izdaci za dane zajmove neprofitnim organizacijama, građanima i kućanstvima | C19: =+C20+C21 -> 0 | F19: =+F20+F21 -> 0 | G19: =+F19/C19*100 -> #DIV/0! | H19: =+F19/E19*100 -> #DIV/0!
A20: 5121 | B20: Dani zajmovi neprofitnim organizacijama, građanima i kućanstvima u tuzemstvu | C20: 0 | F20: 0 | G20: =+F20/C20*100 -> #DIV/0! | H20: =+F20/E20*100 -> #DIV/0!
A21: 5122 | B21: Dani zajmovi neprofitnim organizacijama, građanima i kućanstvima u inozemstvu | C21: 0 | F21: 0 | G21: =+F21/C21*100 -> #DIV/0! | H21: =+F21/E21*100 -> #DIV/0!
A22: 514 | B22: Izdaci za dane zajmove trgovačkim društvima u javnom sektoru | C22: =+C23 -> 0 | F22: =+F23 -> 0 | G22: =+F22/C22*100 -> #DIV/0! | H22: =+F22/E22*100 -> #DIV/0!
A23: 5141 | B23: Dani zajmovi trgovačkim društvima u javnom sektoru | C23: 0 | F23: 0 | G23: =+F23/C23*100 -> #DIV/0! | H23: =+F23/E23*100 -> #DIV/0!
A24: 518 | B24: Izdaci za depozite i jamčevne pologe | C24: =+C25+C26 -> 0 | F24: =+F25+F26 -> 0 | G24: =+F24/C24*100 -> #DIV/0! | H24: =+F24/E24*100 -> #DIV/0!
A25: 5181 | B25: Izdaci za depozite u kreditnim i ostalim financijskim institucijama - tuzemni | C25: 0 | F25: 0 | G25: =+F25/C25*100 -> #DIV/0! | H25: =+F25/E25*100 -> #DIV/0!
A26: 5183 | B26: Izdaci za jamčevne pologe | C26: 0 | F26: 0 | G26: =+F26/C26*100 -> #DIV/0! | H26: =+F26/E26*100 -> #DIV/0!
A27: 53 | B27: Izdaci za dionice i udjele u glavnici | C27: =+C28+C30 -> 0 | D27: 0 | E27: 0 | F27: =+F28+F30 -> 0 | G27: =+F27/C27*100 -> #DIV/0! | H27: =+F27/E27*100 -> #DIV/0!
A28: 532 | B28: Dionice i udjeli u glavnici trgovačkih društava u javnom sektoru | C28: =+C29 -> 0 | F28: =+F29 -> 0 | G28: =+F28/C28*100 -> #DIV/0! | H28: =+F28/E28*100 -> #DIV/0!
A29: 5321 | B29: Dionice i udjeli u glavnici trgovačkih društava u javnom sektoru | C29: 0 | F29: 0 | G29: =+F29/C29*100 -> #DIV/0! | H29: =+F29/E29*100 -> #DIV/0!
A30: 534 | B30: Dionice i udjeli u glavnici trgovačkih društava izvan javnog sektora | C30: =+C31 -> 0 | F30: =+F31 -> 0 | G30: =+F30/C30*100 -> #DIV/0! | H30: =+F30/E30*100 -> #DIV/0!
A31: 5341 | B31: Dionice i udjeli u glavnici tuzemnih trgovačkih društava izvan javnog sektora | C31: 0 | F31: 0 | G31: =+F31/C31*100 -> #DIV/0! | H31: =+F31/E31*100 -> #DIV/0!
A32: 54 | B32: Izdaci za otplatu glavnice primljenih kredita i zajmova | C32: =+C33+C35 -> 0 | D32: 0 | E32: 0 | F32: =+F33+F35 -> 0 | G32: =+F32/C32*100 -> #DIV/0! | H32: =+F32/E32*100 -> #DIV/0!
A33: 542 | B33: Otplata glavnice primljenih kredita i zajmova od kreditnih i ostalih financijskih institucija u javnom sektoru | C33: =+C34 -> 0 | F33: =+F34 -> 0 | G33: =+F33/C33*100 -> #DIV/0! | H33: =+F33/E33*100 -> #DIV/0!
A34: 5422 | B34: Otplata glavnice primljenih kredita od kreditnih institucija u javnom sektoru | C34: 0 | F34: 0 | G34: =+F34/C34*100 -> #DIV/0! | H34: =+F34/E34*100 -> #DIV/0!
A35: 544 | B35: Otplata glavnice primljenih kredita i zajmova od kreditnih i ostalih financijskih institucija izvan javnog sektora | C35: =+C36 -> 0 | F35: =+F36 -> 0 | G35: =+F35/C35*100 -> #DIV/0! | H35: =+F35/E35*100 -> #DIV/0!
A36: 5443 | B36: Otplata glavnice primljenih kredita od tuzemnih kreditnih institucija izvan javnog sektora | C36: 0 | F36: 0 | G36: =+F36/C36*100 -> #DIV/0! | H36: =+F36/E36*100 -> #DIV/0!
F40: DEKANICA:
E42: prof.dr.sc. MARINA KLAČMER ČALOPA

Sheet B.2 RAČUN FINANC IF
A5: IZVJEŠTAJ RAČUNA FINANCIRANJA PREMA IZVORIMA FINANCIRANJA
A7: BROJČANA OZNAKA I NAZIV | C7: OSTVARENJE/IZVRŠENJE 01.2025. - 06.2025. | D7: IZVORNI PLAN ILI REBALANS 2026. | E7: TEKUĆI PLAN 2026. | F7: OSTVARENJE/IZVRŠENJE 01.2026. - 06.2026. | G7: INDEKS (5)/(2) | H7: INDEKS (5)/(3)
A8: 1 | C8: 2 | D8: 3 | E8: 4.3333333 | F8: 5.0833333 | G8: 6 | H8: 7
A9: Primici i izdaci | C9: EUR | D9: EUR | E9: EUR | F9: EUR
A10: PRIMICI | C10: =+C11 -> 0 | D10: =+D11 -> 0 | E10: =+E11 -> 0 | F10: =+F11 -> 0 | G10: =+F10/C10*100 -> #DIV/0! | H10: =+F10/E10*100 -> #DIV/0!
A11: 4 | B11: Prihodi za posebne namjene | C11: =+C12 -> 0 | D11: =+D12 -> 0 | E11: =+E12 -> 0 | F11: =+F12 -> 0 | G11: =+F11/C11*100 -> #DIV/0! | H11: =+F11/E11*100 -> #DIV/0!
A12: 43 | B12: Ostali prihodi za posebne namjene | C12: 0 | D12: 0 | E12: 0 | F12: 0 | G12: =+F12/C12*100 -> #DIV/0! | H12: =+F12/E12*100 -> #DIV/0!
A13: IZDACI | C13: =+C14+C16+C18 -> 0 | D13: =+D14+D16+D18 -> 0 | E13: =+E14+E16+E18 -> 0 | F13: =+F14+F16+F18 -> 0 | G13: =+F13/C13*100 -> #DIV/0! | H13: =+F13/E13*100 -> #DIV/0!
A14: 3 | B14: Vlastiti prihodi | C14: =+C15 -> 0 | D14: =+D15 -> 0 | E14: =+E15 -> 0 | F14: =+F15 -> 0 | G14: =+F14/C14*100 -> #DIV/0! | H14: =+F14/E14*100 -> #DIV/0!
A15: 31 | B15: Vlastiti prihodi | C15: 0 | D15: 0 | E15: 0 | F15: 0 | G15: =+F15/C15*100 -> #DIV/0! | H15: =+F15/E15*100 -> #DIV/0!
A16: 4 | B16: Prihodi za posebne namjene | C16: =+C17 -> 0 | D16: =+D17 -> 0 | E16: =+E17 -> 0 | F16: =+F17 -> 0 | G16: =+F16/C16*100 -> #DIV/0! | H16: =+F16/E16*100 -> #DIV/0!
A17: 43 | B17: Ostali prihodi za posebne namjene | C17: 0 | D17: 0 | E17: 0 | F17: 0 | G17: =+F17/C17*100 -> #DIV/0! | H17: =+F17/E17*100 -> #DIV/0!
A18: 5 | B18: Pomoći | C18: =+C19 -> 0 | D18: =+D19 -> 0 | E18: =+E19 -> 0 | F18: =+F19 -> 0 | G18: =+F18/C18*100 -> #DIV/0! | H18: =+F18/E18*100 -> #DIV/0!
A19: 52 | B19: Ostale pomoći | C19: 0 | D19: 0 | E19: 0 | F19: 0 | G19: =+F19/C19*100 -> #DIV/0! | H19: =+F19/E19*100 -> #DIV/0!
F22: DEKANICA:
E24: prof.dr.sc. MARINA KLAČMER ČALOPA

Sheet II. POSEBNI DIO
A1: RKP-NAZIV PRORAČUNSKOG KORISNIKA: 2063 FAKULTET ORGANIZACIJE I INFORMATIKE U VARAŽDINU
A2: MJESTO I DATUM: VARAŽDIN, 22.10.2025.
A3: OSOBA ZA KONTAKTIRANJE: MATEA ŠOŠTAREC, mag. oec.
A4: TELEFON ZA KONTAKT: 042/390-807
A5: EMAIL ZA KONTAKT: masostarec@foi.unizg.hr
A7: II. POSEBNI DIO FINANCIJSKOG PLANA
A9: Oznaka aktivnosti | B9: Opis aktivnosti | C9: IZVORNI PLAN ILI REBALANS 2026. | D9: TEKUĆI PLAN 2026. | E9: OSTVARENJE/ IZVRŠENJE 01.2026. - 06.2026. | F9: INDEKS (4)/(2)
B10: 1 | C10: 2 | D10: 3 | E10: 4 | F10: 5
A11: 08006 | B11: SVEUČILIŠTA I VELEUČILIŠTA U HRVATSKOJ | C11: =C12 -> 14216210 | D11: =D12 -> 0 | E11: =E12 -> 5971840.9 | F11: =E11/C11*100 -> 42.007263
A12: 37 | B12: OBRAZOVANJE | C12: =C13 -> 14216210 | D12: =D13 -> 0 | E12: =E13 -> 5971840.9 | F12: =E12/C12*100 -> 42.007263
A13: 3705 | B13: VISOKO OBRAZOVANJE | C13: =C14+C15+C16 -> 14216210 | D13: =D14+D15+D16 -> 0 | E13: =E14+E15+E16 -> 5971840.9 | F13: =E13/C13*100 -> 42.007263
A14: A679134 | B14: PROGRAMSKO FINANCIRANJE JAVNIH VISOKIH UČILIŠTA | C14: =C18 -> 7567656 | E14: =E18 -> 3415260.7 | F14: =E14/C14*100 -> 45.129703
A15: A679136 | B15: RAZVOJ SUSTAVA PROGRAMSKIH SPORAZUMA ZA FINANCIRANJE SVEUČILIŠTA I ZNANSTVENIH INSTITUTA USMJERENIH NA INOVACIJE, ISTRAŽIVANJE I RAZVOJ - NPOO | C15: =C86 -> 249431.93 | E15: =E86 -> 76190.1 | F15: =E15/C15*100 -> 30.545448
A16: A679135 | B16: PROGRAMSKO I OSTALO FINANCIRANJE JAVNIH VISOKIH UČILIŠTA – IZ EVIDENCIJSKIH PRIHODA | C16: =C105 -> 6399122.5 | E16: =E105 -> 2480390.1 | F16: =E16/C16*100 -> 38.76141
A18: A679134 | B18: PROGRAMSKO FINANCIRANJE JAVNIH VISOKIH UČILIŠTA | C18: =C19+C61+C73 -> 7567656 | E18: =E19+E61+E73 -> 3415260.7 | F18: =E18/C18*100 -> 45.129703
B19: OSNOVNA PRORAČUNSKA KOMPONENTA | C19: =C20 -> 7371961 | E19: =E20 -> 3368990.6 | F19: =E19/C19*100 -> 45.70006
A20: 11 | B20: OPĆI PRIHODI I PRIMICI | C20: =SUM(C21:C57) -> 7371961 | E20: =E21+E27+E50+E53+E55+E57+E6 -> 3368990.6 | F20: =E20/C20*100 -> 45.70006
A21: 31 | B21: Rashodi za zaposlene | C21: 6421851 | E21: =SUM(E22:E26) -> 2932796.3 | F21: =E21/C21*100 -> 45.669018
A22: 3111 | B22: Plaće za redovan rad | E22: 2459956.6
A23: 3113 | B23: Plaće za prekovremeni rad | E23: 917.45
A24: 3114 | B24: Plaće za posebne uvjete rada | E24: 727.14
A25: 3121 | B25: Ostali rashodi za zaposlene | E25: 64557.47
A26: 3132 | B26: Doprinosi za obvezno zdravstveno osiguranje | E26: 406637.62
A27: 32 | B27: Materijalni rashodi | C27: 833110 | E27: =SUM(E28:E49) -> 411653.73 | F27: =E27/C27*100 -> 49.41169
A28: 3211 | B28: Službena putovanja | E28: 15168.69
A29: 3212 | B29: Naknade za prijevoz, za rad na terenu i odvojeni život | E29: 67756.93
A30: 3213 | B30: Stručno usavršavanje zaposlenika | E30: 6325.6
A31: 3221 | B31: Uredski materijal i ostali materijalni rashodi | E31: 10236.85
A32: 3223 | B32: Energija | E32: 56752.03
A33: 3224 | B33: Materijal i dijelovi za tekuće i investicijsko održavanje | E33: 7956.39
A34: 3227 | B34: Službena, radna i zaštitna odjeća i obuća | E34: 1012.51
A35: 3231 | B35: Usluge telefona, pošte i prijevoza | E35: 6550.7
A36: 3232 | B36: Usluge tekućeg i investicijskog održavanja | E36: 29599.97
A37: 3233 | B37: Usluge promidžbe i informiranja | E37: 41790.8
A38: 3234 | B38: Komunalne usluge | E38: 9371.1
A39: 3235 | B39: Zakupnine i najamnine | E39: 17045.7
A40: 3236 | B40: Zdravstvene i veterinarske usluge | E40: 55.67
A41: 3237 | B41: Intelektualne i osobne usluge | E41: 76887.5
A42: 3238 | B42: Računalne usluge | E42: 95.33
A43: 3239 | B43: Ostale usluge | E43: 23708.73
A44: 3241 | B44: Naknade troškova osobama izvan radnog odnosa | E44: 5349.52
A45: 3292 | B45: Premije osiguranja | E45: 931.78
A46: 3293 | B46: Reprezentacija | E46: 12967.24
A47: 3294 | B47: Članarine i norme | E47: 9635.16
A48: 3295 | B48: Pristojbe i naknade | E48: 154.67
A49: 3299 | B49: Ostali nespomenuti rashodi poslovanja | E49: 12300.86
A50: 34 | B50: Financijski rashodi | C50: 8000 | E50: =SUM(E51:E52) -> 3305.44 | F50: =E50/C50*100 -> 41.318
A51: 3431 | B51: Bankarske usluge i usluge platnog prometa | E51: 3299.41
A52: 3432 | B52: Negativne tečajne razlike | E52: 6.03
A53: 37 | B53: Naknade građanima i kućanstvima na temelju osiguranja i druge naknade | C53: 6000 | E53: =SUM(E54) -> 1775.5 | F53: =E53/C53*100 -> 29.591667
A54: 3721 | B54: Naknade građanima i kućanstvima na temelju osiguranja i druge naknade | E54: 1775.5
A55: 38 | B55: Ostali rashodi | C55: 0 | E55: =SUM(E56) -> 2242 | F55: -
A56: 3811 | B56: Tekuće donacije u novcu | E56: 2242
A57: 42 | B57: Rashodi za nabavu proizvedene dugotrajne imovine | C57: 103000 | E57: =SUM(E58:E60) -> 17217.66 | F57: =E57/C57*100 -> 16.716175
A58: 4221 | B58: Uredska oprema i namještaj | E58: 11881.35
A59: 4222 | B59: Komunikacijska oprema | E59: 4219.2
A60: 4223 | B60: Oprema za održavanje i zaštitu | E60: 1117.11
B61: RAZVOJNA PRORAČUNSKA KOMPONENTA | C61: =C62 -> 146986 | E61: =E62 -> 7909.57 | F61: =E61/C61*100 -> 5.3811724
A62: 11 | B62: OPĆI PRIHODI I PRIMICI | C62: =C63+C66+C71 -> 146986 | E62: =E63+E66+E71 -> 7909.57 | F62: =E62/C62*100 -> 5.3811724
A63: 31 | B63: Rashodi za zaposlene | C63: 0 | E63: =SUM(E64:E65) -> 101.25 | F63: -
A64: 3111 | B64: Plaće za redovan rad | E64: 86.91
A65: 3132 | B65: Doprinosi za obvezno zdravstveno osiguranje | E65: 14.34
A66: 32 | B66: Materijalni rashodi | C66: 136986 | E66: =SUM(E67:E70) -> 1157.7 | F66: =E66/C66*100 -> 0.84512286
A67: 3211 | B67: Službena putovanja | E67: 601.88
A68: 3235 | B68: Zakupnine i najamnine | E68: 137
A69: 3237 | B69: Intelektualne i osobne usluge | E69: 238.44
A70: 3293 | B70: Reprezentacija | E70: 180.38
A71: 42 | B71: Rashodi za nabavu proizvedene dugotrajne imovine | C71: =SUM(C72) -> 10000 | E71: =SUM(E72) -> 6650.62 | F71: -
A72: 4221 | B72: Uredska oprema i namještaj | C72: 10000 | E72: 6650.62
B73: IZVEDBENA PRORAČUNSKA KOMPONENTA | C73: =C74 -> 48709 | E73: =E74 -> 38360.47 | F73: =E73/C73*100 -> 78.754378
A74: 11 | B74: OPĆI PRIHODI I PRIMICI | C74: =C75 -> 48709 | E74: =E75 -> 38360.47 | F74: =E74/C74*100 -> 78.754378
A75: 32 | B75: Materijalni rashodi | C75: 48709 | E75: =SUM(E76:E85) -> 38360.47 | F75: =E75/C75*100 -> 78.754378
A76: 3211 | B76: Službena putovanja | E76: 823.53
A77: 3213 | B77: Stručno usavršavanje zaposlenika | E77: 900
A78: 3223 | B78: Energija | E78: 110.05
A79: 3231 | B79: Usluge telefona, pošte i prijevoza | E79: 420
A80: 3235 | B80: Zakupnine i najamnine
A81: 3237 | B81: Intelektualne i osobne usluge | E81: 1847.2
A82: 3239 | B82: Ostale usluge | E82: 29919.5
A83: 3241 | B83: Naknade troškova osobama izvan radnog odnosa | E83: 193.19
A84: 3293 | B84: Reprezentacija | E84: 157
A85: 3299 | B85: Ostali nespomenuti rashodi poslovanja | E85: 3990
A86: A679136 | B86: RAZVOJ SUSTAVA PROGRAMSKIH SPORAZUMA ZA FINANCIRANJE SVEUČILIŠTA I ZNANSTVENIH INSTITUTA USMJERENIH NA INOVACIJE, ISTRAŽIVANJE I RAZVOJ - NPOO | C86: =C87 -> 249431.93 | E86: =E87 -> 76190.1 | F86: =E86/C86*100 -> 30.545448
B87: NPOO - RAZVOJNA PRORAČUNSKA KOMPONENTA | C87: =C88 -> 249431.93 | E87: =E88 -> 76190.1 | F87: =E87/C87*100 -> 30.545448
A88: 58100 | B88: MEHANIZAM ZA OPORAVAK I OTPORNOST (NPOO) | C88: =SUM(C89:C102) -> 249431.93 | E88: =E89+E101+E102 -> 76190.1 | F88: =E88/C88*100 -> 30.545448
A89: 32 | B89: Materijalni rashodi | C89: 207531.93 | E89: =SUM(E90:E100) -> 51867.19 | F89: =E89/C89*100 -> 24.99239
A90: 3211 | B90: Službena putovanja | E90: 16277.46
A91: 3213 | B91: Stručno usavršavanje zaposlenika | E91: 23006.23
A92: 3221 | B92: Uredski materijal i ostali materijalni rashodi | E92: 931.61
A93: 3223 | B93: Energija | E93: 135.44
A94: 3224 | B94: Materijal i dijelovi za tekuće i investicijsko održavanje | E94: 3158.43
A95: 3235 | B95: Zakupnine i najamnine | E95: 6221.02
A96: 3237 | B96: Intelektualne i osobne usluge | E96: 211.39
A97: 3239 | B97: Ostale usluge | E97: 26.25
A98: 3292 | B98: Premije osiguranja | E98: 61.93
A99: 3293 | B99: Reprezentacija | E99: 984.96
A100: 3294 | B100: Članarine i norme | E100: 852.47
A101: 41 | B101: Rashodi za nabavu neproizvedene dugotrajne imovine | C101: 1000 | E101: 0 | F101: =E101/C101*100 -> 0
A102: 42 | B102: Rashodi za nabavu proizvedene dugotrajne imovine | C102: 40900 | E102: =SUM(E103:E104) -> 24322.91 | F102: =E102/C102*100 -> 59.469218
A103: 4221 | B103: Uredska oprema i namještaj | E103: 23171.87
...
